BEGIN:VCALENDAR
VERSION:2.0
PRODID:-//ChamberMaster//Event Calendar 2.0//EN
METHOD:PUBLISH
X-PUBLISHED-TTL:P3D
REFRESH-INTERVAL:P3D
CALSCALE:GREGORIAN
BEGIN:VEVENT
DTSTART:20180222T220000Z
DTEND:20180222T223000Z
X-MICROSOFT-CDO-ALLDAYEVENT:FALSE
SUMMARY:Ribbon Cutting - FEH Design
DESCRIPTION:FEH Design will proudly showcase their new location on Historic 4th Street at an upcoming Ribbon Cutting with the Siouxland and South Sioux City Chambers followed by and Open House until 6:00 PM.  The architects\, engineers and designers at FEH are passionate about creating environments which inspire\, endure\, enhance and add to the fabric of the communities they are privileged to work in.  Please join us in celebrating their success!
X-ALT-DESC;FMTTYPE=text/html:FEH&nbsp\;Design will proudly showcase their new location on Historic 4th Street at an upcoming Ribbon Cutting with the Siouxland and South Sioux City Chambers followed by and Open House until 6:00 PM.&nbsp\; The&nbsp\;architects\, engineers and designers at FEH are passionate about creating environments which inspire\, endure\, enhance and add to the fabric of the communities they are privileged to work in.&nbsp\; Please join us in celebrating their success!
LOCATION:1201 4th Street\, Suite 201 Sioux City
UID:e.769.4619
SEQUENCE:3
DTSTAMP:20260420T115709Z
URL:https://directory.siouxlandchamber.com/events/details/ribbon-cutting-feh-design-4619
END:VEVENT

END:VCALENDAR
