BEGIN:VCALENDAR
VERSION:2.0
PRODID:-//ChamberMaster//Event Calendar 2.0//EN
METHOD:PUBLISH
X-PUBLISHED-TTL:P3D
REFRESH-INTERVAL:P3D
CALSCALE:GREGORIAN
BEGIN:VEVENT
DTSTART:20161026T180000Z
DTEND:20161026T183000Z
X-MICROSOFT-CDO-ALLDAYEVENT:FALSE
SUMMARY:Ribbon Cutting - Fareway\, Sgt. Bluff
DESCRIPTION:The Sergeant Bluff Fareway will hold a ribbon cutting to kick off their grand re-opening following a recent remodel.  Please join us in congratulating them on their improvements.
X-ALT-DESC;FMTTYPE=text/html:<span style="font-family: arial narrow\,sans-serif\;">The Sergeant Bluff Fareway will hold a ribbon cutting to kick off their grand re-opening following a recent remodel.&nbsp\; Please join us in congratulating them on their improvements.</span>
LOCATION:700 1st Street Sergeant Bluff
UID:e.769.3395
SEQUENCE:3
DTSTAMP:20260421T114511Z
URL:https://directory.siouxlandchamber.com/events/details/ribbon-cutting-fareway-sgt-bluff-3395
END:VEVENT

END:VCALENDAR
