BEGIN:VCALENDAR
VERSION:2.0
PRODID:-//ChamberMaster//Event Calendar 2.0//EN
METHOD:PUBLISH
X-PUBLISHED-TTL:P3D
REFRESH-INTERVAL:P3D
CALSCALE:GREGORIAN
BEGIN:VEVENT
DTSTART:20170727T220000Z
DTEND:20170727T223000Z
X-MICROSOFT-CDO-ALLDAYEVENT:FALSE
SUMMARY:Ribbon Cutting - Fankhauser Rachel\, PLC
DESCRIPTION:We will welcome new member\, Fankhauser Rachel\, PLC to the Siouxland Chamber with a ribbon cutting ceremony.  Attorneys\, Dean A. Fankhauser and Theresa Rachel offer their clients exceptional service because they strive to connect with their clients on a deep level.  Please help us welcome them to the Chamber community.
X-ALT-DESC;FMTTYPE=text/html:We will welcome new member\, Fankhauser Rachel\, PLC to the Siouxland Chamber with a ribbon cutting ceremony. &nbsp\;Attorneys\, Dean A. Fankhauser and Theresa Rachel offer their clients exceptional service because they strive to connect with their clients on a deep level. &nbsp\;Please help us welcome them to the Chamber community.&nbsp\;&nbsp\;&nbsp\;&nbsp\;&nbsp\;&nbsp\;&nbsp\;&nbsp\;
LOCATION:701 Pierce Street\, Suite 204 Sioux City
UID:e.769.3493
SEQUENCE:3
DTSTAMP:20260420T003426Z
URL:https://directory.siouxlandchamber.com/events/details/ribbon-cutting-fankhauser-rachel-plc-3493
END:VEVENT

END:VCALENDAR
