BEGIN:VCALENDAR
VERSION:2.0
PRODID:-//ChamberMaster//Event Calendar 2.0//EN
METHOD:PUBLISH
X-PUBLISHED-TTL:P3D
REFRESH-INTERVAL:P3D
CALSCALE:GREGORIAN
BEGIN:VEVENT
DTSTART:20160310T220000Z
DTEND:20160310T223000Z
X-MICROSOFT-CDO-ALLDAYEVENT:FALSE
SUMMARY:Ribbon Cutting - Family Wellness Associates
DESCRIPTION:Family Wellness Associates invites you to join in the celebration of their new agency.  \n\n    Robin Capers\, LISW\n\n    Courtney Kilberg\, LMHC\n\n    Melissa Schuldt\, LMSW\n\n    Kelli Pierce\, LMHC\, IADC
X-ALT-DESC;FMTTYPE=text/html:Family Wellness Associates invites you to join in the celebration of their new agency. &nbsp\;<br />\n&nbsp\; &nbsp\; Robin Capers\, LISW<br />\n&nbsp\; &nbsp\; Courtney Kilberg\, LMHC<br />\n&nbsp\;&nbsp\;&nbsp\;&nbsp\;Melissa Schuldt\, LMSW<br />\n&nbsp\; &nbsp\; Kelli Pierce\, LMHC\, IADC
LOCATION:1115 5th Street Sioux City
UID:e.769.3240
SEQUENCE:3
DTSTAMP:20260421T190028Z
URL:https://directory.siouxlandchamber.com/events/details/ribbon-cutting-family-wellness-associates-03-10-2016-3240
END:VEVENT

END:VCALENDAR
