BEGIN:VCALENDAR
VERSION:2.0
PRODID:-//ChamberMaster//Event Calendar 2.0//EN
METHOD:PUBLISH
X-PUBLISHED-TTL:P3D
REFRESH-INTERVAL:P3D
CALSCALE:GREGORIAN
BEGIN:VEVENT
DTSTART:20170125T213000Z
DTEND:20170125T220000Z
X-MICROSOFT-CDO-ALLDAYEVENT:FALSE
SUMMARY:Ribbon Cutting - Electronic Engineering
DESCRIPTION:Electronic Engineering has a new location in Sioux City and will celebrate with a Chamber ribbon cutting followed by refreshments.  Beginning as a service organization for the two-way radio industry\, Electronic Engineering has grown with technology to become the electronics and communication specialist people you can depend on.  Please join us in congratulating Electronics Engineering on their new improvements.
X-ALT-DESC;FMTTYPE=text/html:Electronic Engineering has a new location in Sioux City and will celebrate with a Chamber ribbon cutting followed by refreshments. &nbsp\;Beginning as a service organization for the two-way radio industry\, Electronic Engineering has grown with technology to become the electronics and communication specialist people you can depend on. &nbsp\;Please join us in congratulating Electronics Engineering on their new improvements.
LOCATION:1400 West 1st Street Sioux City
UID:e.769.3432
SEQUENCE:3
DTSTAMP:20260419T163405Z
URL:https://directory.siouxlandchamber.com/events/details/ribbon-cutting-electronic-engineering-3432
END:VEVENT

END:VCALENDAR
