BEGIN:VCALENDAR
VERSION:2.0
PRODID:-//ChamberMaster//Event Calendar 2.0//EN
METHOD:PUBLISH
X-PUBLISHED-TTL:P3D
REFRESH-INTERVAL:P3D
CALSCALE:GREGORIAN
BEGIN:VEVENT
DTSTART:20170718T150000Z
DTEND:20170718T153000Z
X-MICROSOFT-CDO-ALLDAYEVENT:FALSE
SUMMARY:Ribbon Cutting - Electronic Caregiver
DESCRIPTION:The Siouxland Chamber will host a ribbon cutting ceremony to welcome new member\, Electronic Caregiver.  Stop and visit with Nancy Huseth about Electronic Caregiver\, the first medical alert system with physician-on-demand services and enjoy refreshments following the ribbon cutting.
X-ALT-DESC;FMTTYPE=text/html:The Siouxland Chamber will host a ribbon cutting ceremony to welcome new member\, Electronic Caregiver. &nbsp\;Stop and visit with Nancy Huseth about Electronic Caregiver\, the first medical alert system with physician-on-demand services and enjoy refreshments following the ribbon cutting.
LOCATION:Hosted by the Siouxland Chamber 101 Pierce Street
UID:e.769.3527
SEQUENCE:3
DTSTAMP:20260420T003208Z
URL:https://directory.siouxlandchamber.com/events/details/ribbon-cutting-electronic-caregiver-3527
END:VEVENT

END:VCALENDAR
