BEGIN:VCALENDAR
VERSION:2.0
PRODID:-//ChamberMaster//Event Calendar 2.0//EN
METHOD:PUBLISH
X-PUBLISHED-TTL:P3D
REFRESH-INTERVAL:P3D
CALSCALE:GREGORIAN
BEGIN:VEVENT
DTSTART:20230112T223000Z
DTEND:20230112T230000Z
X-MICROSOFT-CDO-ALLDAYEVENT:FALSE
SUMMARY:Ribbon Cutting - Edward Jones\, Megan King
DESCRIPTION:Join us we celebrate the new location for Edward Jones. An open house will follow from 3-6PM.
X-ALT-DESC;FMTTYPE=text/html:Join us we celebrate the new location for Edward Jones. An open house will follow from 3-6PM.&nbsp\;
LOCATION:101 Virginia Suite 101 Sioux City\, IA 51101
UID:e.769.5891
SEQUENCE:3
DTSTAMP:20260419T171201Z
URL:https://directory.siouxlandchamber.com/events/details/ribbon-cutting-edward-jones-megan-king-01-12-2023-5891
END:VEVENT

END:VCALENDAR
