BEGIN:VCALENDAR
VERSION:2.0
PRODID:-//ChamberMaster//Event Calendar 2.0//EN
METHOD:PUBLISH
X-PUBLISHED-TTL:P3D
REFRESH-INTERVAL:P3D
CALSCALE:GREGORIAN
BEGIN:VEVENT
DTSTART:20161116T200000Z
DTEND:20161116T203000Z
X-MICROSOFT-CDO-ALLDAYEVENT:FALSE
SUMMARY:Ribbon Cutting - Edward Jones Investments\, Eric J. Ricke
DESCRIPTION:Please join us for a ribbon cutting to welcome new member\, Eric J Ricke and his team at Edward Jones Investments to the Chamber.  An Open House will follow the ceremony until 7:00 PM.  Whether you're planning for retirement\, saving for college for children or grandchildren\, or just trying to protect the financial future of the ones you care for the most\, Edward Jones will work together with you to develop specific strategies to help you achieve your goals.
X-ALT-DESC;FMTTYPE=text/html:<span style="font-family:tahoma\;"><span style="font-size:14px\;">Please join us for a ribbon cutting to welcome new member\, Eric J Ricke and his team at Edward Jones Investments to the Chamber. &nbsp\;An Open House will follow the ceremony until 7:00 PM. &nbsp\;Whether you&#39\;re planning for retirement\, saving for college for children or grandchildren\, or just trying to protect the financial future of the ones you care for the most\, Edward Jones will work together with you to develop specific strategies to help you achieve your goals.</span></span>
LOCATION:6101 Whispering Creek Drive\, Suite A Sioux City
UID:e.769.3403
SEQUENCE:3
DTSTAMP:20260419T135017Z
URL:https://directory.siouxlandchamber.com/events/details/ribbon-cutting-edward-jones-investments-eric-j-ricke-3403
END:VEVENT

END:VCALENDAR
