BEGIN:VCALENDAR
VERSION:2.0
PRODID:-//ChamberMaster//Event Calendar 2.0//EN
METHOD:PUBLISH
X-PUBLISHED-TTL:P3D
REFRESH-INTERVAL:P3D
CALSCALE:GREGORIAN
BEGIN:VEVENT
DTSTART:20160415T210000Z
DTEND:20160415T213000Z
X-MICROSOFT-CDO-ALLDAYEVENT:FALSE
SUMMARY:Ribbon Cutting - Echo Group Inc.
DESCRIPTION:Please join the Siouxland Chamber in celebrating the Grand Opening of Echo Group Inc.'s new building.  A ribbon cutting ceremony and open house will take place on April 15th.
X-ALT-DESC;FMTTYPE=text/html:Please join the Siouxland Chamber in celebrating the Grand Opening of Echo Group Inc.&#39\;s new building. &nbsp\;A ribbon cutting ceremony and open house will take place on April 15th.
LOCATION:1200 Cunningham Drive Sioux City
UID:e.769.3242
SEQUENCE:3
DTSTAMP:20260421T201041Z
URL:https://directory.siouxlandchamber.com/events/details/ribbon-cutting-echo-group-inc-04-15-2016-3242
END:VEVENT

END:VCALENDAR
