BEGIN:VCALENDAR
VERSION:2.0
PRODID:-//ChamberMaster//Event Calendar 2.0//EN
METHOD:PUBLISH
X-PUBLISHED-TTL:P3D
REFRESH-INTERVAL:P3D
CALSCALE:GREGORIAN
BEGIN:VEVENT
DTSTART:20161201T173000Z
DTEND:20161201T180000Z
X-MICROSOFT-CDO-ALLDAYEVENT:FALSE
SUMMARY:Ribbon Cutting - Eat Fit Go Healthy Foods
DESCRIPTION:New Chamber member\, Eat Fit Go Healthy Foods\, will celebrate their grand opening with a ribbon cutting.  Eat Fit Go provides a simple solution to eating healthy on the go with chef-driven meals made fresh daily\, never frozen\, no preservatives\, low sodium\, high protein\, and allergy friendly.  Please come and give them a warm Chamber welcome to the Chamber and enjoy a 10% discount on all items!
X-ALT-DESC;FMTTYPE=text/html:<span style="font-family:arial narrow\,sans-serif\;">New Chamber member\, Eat Fit Go Healthy Foods\, will celebrate their grand opening with a ribbon cutting.&nbsp\; Eat Fit Go provides a simple solution to eating healthy on the go with chef-driven meals made fresh daily\, never frozen\, no preservatives\, low sodium\, high protein\, and allergy friendly.&nbsp\; Please come and give them a warm Chamber welcome to the Chamber and enjoy a 10% discount on all items!</span>
LOCATION:4501 Southern Hills Drive\, #3 (near Hobby Lobby) Sioux City
UID:e.769.3410
SEQUENCE:3
DTSTAMP:20260419T152039Z
URL:https://directory.siouxlandchamber.com/events/details/ribbon-cutting-eat-fit-go-healthy-foods-3410
END:VEVENT

END:VCALENDAR
