BEGIN:VCALENDAR
VERSION:2.0
PRODID:-//ChamberMaster//Event Calendar 2.0//EN
METHOD:PUBLISH
X-PUBLISHED-TTL:P3D
REFRESH-INTERVAL:P3D
CALSCALE:GREGORIAN
BEGIN:VEVENT
DTSTART:20170906T220000Z
DTEND:20170906T223000Z
X-MICROSOFT-CDO-ALLDAYEVENT:FALSE
SUMMARY:Ribbon Cutting - Ear Nose & Throat Consultants
DESCRIPTION:Ear Nose and Throat Consultants and Hearing Services will celebrate their new Chamber membership at their upcoming Ribbon Cutting ceremony.  With a newly added Allergy Center\, ENT Consultants are the premier provider in the Siouxland area treating conditions of the ears\, nose\, and throat including sinus problems\, allergies\, and hearing loss.
X-ALT-DESC;FMTTYPE=text/html:Ear Nose and Throat Consultants and Hearing Services will celebrate their new Chamber membership at their upcoming Ribbon Cutting ceremony. &nbsp\;With a newly added Allergy Center\, ENT Consultants are the premier provider in the Siouxland&nbsp\;area treating conditions of the ears\, nose\, and throat including sinus problems\, allergies\, and hearing loss.
LOCATION:101 Tower Road\, Suite 120 Dakota Dunes\, SD
UID:e.769.3551
SEQUENCE:3
DTSTAMP:20260420T044634Z
URL:https://directory.siouxlandchamber.com/events/details/ribbon-cutting-ear-nose-throat-consultants-3551
END:VEVENT

END:VCALENDAR
