BEGIN:VCALENDAR
VERSION:2.0
PRODID:-//ChamberMaster//Event Calendar 2.0//EN
METHOD:PUBLISH
X-PUBLISHED-TTL:P3D
REFRESH-INTERVAL:P3D
CALSCALE:GREGORIAN
BEGIN:VEVENT
DTSTART:20170915T173000Z
DTEND:20170915T180000Z
X-MICROSOFT-CDO-ALLDAYEVENT:FALSE
SUMMARY:Ribbon Cutting - Dermatology Associates of Siouxland\, PC
DESCRIPTION:Dermatology Associates of Siouxland\, PC will host a Chamber ribbon cutting to mark the 20th anniversary of Dr. Mark DeMay with the clinic.  Punch and cake will be served following the ceremony.  \n\n\n\nDr. Mark DeMay joined Ziebell Oss Rossiter & DeMay in 1997.  In 2000 the name was changed to Rossiter & DeMay LLP when Dr. Ziebell retired and Dr. Oss passed away.  In 2012 the clinic's name became Dermatology Associates of Siouxland\, PC when Dr. Rossiter retired.  Currently Dr. Mark DeMay and David Grote\, PA practice in the office.
X-ALT-DESC;FMTTYPE=text/html:<span style="font-size:12px\;"><span style="font-family:arial\;">Dermatology Associates of Siouxland\, PC will host a Chamber ribbon cutting to mark the 20th anniversary of Dr. Mark DeMay with the clinic. &nbsp\;Punch and cake will be served following the ceremony. &nbsp\;<br />\n<br />\nDr. Mark DeMay joined Ziebell Oss Rossiter &amp\; DeMay in 1997.&nbsp\; In 2000 the name was changed to Rossiter &amp\; DeMay LLP when Dr. Ziebell retired and Dr. Oss passed away.&nbsp\; In 2012 the clinic&#39\;s name became Dermatology Associates of Siouxland\, PC when Dr. Rossiter retired.&nbsp\; Currently Dr. Mark DeMay and David Grote\, PA practice in the office. &nbsp\;</span></span>
LOCATION:2930 Hamilton Boulevard Suite 102 Sioux City
UID:e.769.3560
SEQUENCE:3
DTSTAMP:20260420T044933Z
URL:https://directory.siouxlandchamber.com/events/details/ribbon-cutting-dermatology-associates-of-siouxland-pc-3560
END:VEVENT

END:VCALENDAR
