BEGIN:VCALENDAR
VERSION:2.0
PRODID:-//ChamberMaster//Event Calendar 2.0//EN
METHOD:PUBLISH
X-PUBLISHED-TTL:P3D
REFRESH-INTERVAL:P3D
CALSCALE:GREGORIAN
BEGIN:VEVENT
DTSTART:20170118T203000Z
DTEND:20170118T210000Z
X-MICROSOFT-CDO-ALLDAYEVENT:FALSE
SUMMARY:Ribbon Cutting - Davita Sioux City
DESCRIPTION:Please attend a Siouxland Chamber ribbon cutting to welcome new member Davita Sioux City Dialysis.  Davita Kidney Care is a leading provider of kidney care in the United States\, delivering dialysis services to patients with chronic kidney failure and end stage renal disease.  We hope you can join us in congratulating Davita on their recent opening.  An Open House with refreshments and desserts will follow.
X-ALT-DESC;FMTTYPE=text/html:Please attend a Siouxland Chamber ribbon cutting to welcome new member Davita Sioux City Dialysis. &nbsp\;Davita&nbsp\;Kidney Care is a leading provider of kidney care in the United States\, delivering dialysis services to patients with chronic kidney failure and end stage renal disease. &nbsp\;We hope you can join us in congratulating Davita on their recent opening. &nbsp\;An Open House with refreshments and desserts will follow.
LOCATION:5865 Sunnybrook Drive Sioux City
UID:e.769.3422
SEQUENCE:3
DTSTAMP:20260419T151854Z
URL:https://directory.siouxlandchamber.com/events/details/ribbon-cutting-davita-sioux-city-3422
END:VEVENT

END:VCALENDAR
