BEGIN:VCALENDAR
VERSION:2.0
PRODID:-//ChamberMaster//Event Calendar 2.0//EN
METHOD:PUBLISH
X-PUBLISHED-TTL:P3D
REFRESH-INTERVAL:P3D
CALSCALE:GREGORIAN
BEGIN:VEVENT
DTSTART:20180721T190000Z
DTEND:20180721T193000Z
X-MICROSOFT-CDO-ALLDAYEVENT:FALSE
SUMMARY:Ribbon Cutting - Dakota Dunes Country Club\, Fitness Center
DESCRIPTION:Dakota Dunes Country Club recently completed a new fitness center.  Please join us and get a look at the new space when we cut the ribbon in celebration.  Along with the fitness center\, programs ranging from aerobics and strength training to yoga and step are offered.
X-ALT-DESC;FMTTYPE=text/html:Dakota Dunes Country Club recently completed a new fitness center.&nbsp\; Please join us and get a look at the new space when we cut the ribbon in celebration.&nbsp\; Along with the fitness center\, programs ranging from aerobics and strength training to yoga and step are offered.
LOCATION:960 S. Dakota Dunes Boulevard Dakota Dunes\, SD
UID:e.769.4729
SEQUENCE:3
DTSTAMP:20260420T181733Z
URL:https://directory.siouxlandchamber.com/events/details/ribbon-cutting-dakota-dunes-country-club-fitness-center-4729
END:VEVENT

END:VCALENDAR
