BEGIN:VCALENDAR
VERSION:2.0
PRODID:-//ChamberMaster//Event Calendar 2.0//EN
METHOD:PUBLISH
X-PUBLISHED-TTL:P3D
REFRESH-INTERVAL:P3D
CALSCALE:GREGORIAN
BEGIN:VEVENT
DTSTART:20161207T223000Z
DTEND:20161207T230000Z
X-MICROSOFT-CDO-ALLDAYEVENT:FALSE
SUMMARY:Ribbon Cutting - Dakota 303\, Ho-Chunk Capital
DESCRIPTION:Ho-Chunk Capital will hold a Chamber ribbon cutting / open house for the grand opening of Dakota 303 with appetizers and beverages following the ceremony.  Located in the stunning master planned community along the Missouri River\, Dakota Dunes the sleek\, contemporary\, 3 story apartment complex will offer 47 units with high end finishes and a host of amenities including an indoor pool\, fitness area\, garage parking and secure building features.  Please join the Siouxland Chamber and South Sioux City Chamber for the celebration and congratulate Ho-Chunk on their most recent investment in Siouxland.
X-ALT-DESC;FMTTYPE=text/html:<span style="font-size:14px\;"><span style="font-family:tahoma\;">Ho-Chunk Capital will hold a Chamber ribbon cutting / open house for the grand opening of Dakota 303 with appetizers and beverages following the ceremony.&nbsp\; Located in the stunning master planned community along the Missouri River\, Dakota Dunes the sleek\, contemporary\, 3 story apartment complex will offer 47 units with high end finishes and a host of amenities including an indoor pool\, fitness area\, garage parking and secure building features.&nbsp\; Please join the Siouxland Chamber and South Sioux City Chamber for the celebration and congratulate Ho-Chunk on their most recent investment in Siouxland.&nbsp\;&nbsp\;</span></span>
LOCATION:303 Dakota Dakota Dunes\, SD
UID:e.769.3415
SEQUENCE:3
DTSTAMP:20260419T151852Z
URL:https://directory.siouxlandchamber.com/events/details/ribbon-cutting-dakota-303-ho-chunk-capital-3415
END:VEVENT

END:VCALENDAR
