BEGIN:VCALENDAR
VERSION:2.0
PRODID:-//ChamberMaster//Event Calendar 2.0//EN
METHOD:PUBLISH
X-PUBLISHED-TTL:P3D
REFRESH-INTERVAL:P3D
CALSCALE:GREGORIAN
BEGIN:VEVENT
DTSTART:20221101T213000Z
DTEND:20221101T220000Z
X-MICROSOFT-CDO-ALLDAYEVENT:FALSE
SUMMARY:Ribbon Cutting - Daga's on Broadway
DESCRIPTION:Join us in welcoming Daga's on Broadway to the Siouxland Chamber!
X-ALT-DESC;FMTTYPE=text/html:Join us in welcoming Daga&#39\;s on Broadway to the Siouxland Chamber!&nbsp\;&nbsp\;
LOCATION:100 N 14th Street Dakota City\, NE 68731
UID:e.769.5892
SEQUENCE:3
DTSTAMP:20260419T195431Z
URL:https://directory.siouxlandchamber.com/events/details/ribbon-cutting-daga-s-on-broadway-5892
END:VEVENT

END:VCALENDAR
