BEGIN:VCALENDAR
VERSION:2.0
PRODID:-//ChamberMaster//Event Calendar 2.0//EN
METHOD:PUBLISH
X-PUBLISHED-TTL:P3D
REFRESH-INTERVAL:P3D
CALSCALE:GREGORIAN
BEGIN:VEVENT
DTSTART:20241008T210000Z
DTEND:20241008T213000Z
X-MICROSOFT-CDO-ALLDAYEVENT:FALSE
SUMMARY:Ribbon Cutting - D2 Worldwide
DESCRIPTION:Join us as we celebrate D2 Worldwide's 20th anniversary!
X-ALT-DESC;FMTTYPE=text/html:Join us as we celebrate D2 Worldwide&#39\;s 20th anniversary!&nbsp\;
LOCATION:610 Freedom Dr.\, Ste. 1 North Sioux City\, SD
UID:e.769.6389
SEQUENCE:3
DTSTAMP:20260424T143632Z
URL:https://directory.siouxlandchamber.com/events/details/ribbon-cutting-d2-worldwide-6389
END:VEVENT

END:VCALENDAR
