BEGIN:VCALENDAR
VERSION:2.0
PRODID:-//ChamberMaster//Event Calendar 2.0//EN
METHOD:PUBLISH
X-PUBLISHED-TTL:P3D
REFRESH-INTERVAL:P3D
CALSCALE:GREGORIAN
BEGIN:VEVENT
DTSTART:20160412T150000Z
DTEND:20160412T153000Z
X-MICROSOFT-CDO-ALLDAYEVENT:FALSE
SUMMARY:Ribbon Cutting - Curves-South Sioux City
DESCRIPTION:Please join the Siouxland Chamber Ambassadors and South Sioux Chamber Ambassadors in celebrating the 16th Anniversary of Curves - South Sioux City
X-ALT-DESC;FMTTYPE=text/html:Please join the Siouxland Chamber Ambassadors and South Sioux Chamber Ambassadors in celebrating the 16th Anniversary of Curves - South Sioux City
LOCATION:1101 Dakota Avenue South Sioux City\, NE
UID:e.769.3239
SEQUENCE:3
DTSTAMP:20260421T201634Z
URL:https://directory.siouxlandchamber.com/events/details/ribbon-cutting-curves-south-sioux-city-04-12-2016-3239
END:VEVENT

END:VCALENDAR
