BEGIN:VCALENDAR
VERSION:2.0
PRODID:-//ChamberMaster//Event Calendar 2.0//EN
METHOD:PUBLISH
X-PUBLISHED-TTL:P3D
REFRESH-INTERVAL:P3D
CALSCALE:GREGORIAN
BEGIN:VEVENT
DTSTART:20170725T193000Z
DTEND:20170725T200000Z
X-MICROSOFT-CDO-ALLDAYEVENT:FALSE
SUMMARY:Ribbon Cutting - CSI
DESCRIPTION:CSI\, a full-service IT company\, will hold a ribbon cutting event followed by refreshments to celebrate their new Siouxland Chamber membership.  CSI has over 20 years of experience in understanding\, installing and providing service and support on both business and healthcare specific hardware\, software and networks and can make your life and your organization more productive\, more enjoyable and more profitable.  Please join us and welcome CSI to the Chamber!
X-ALT-DESC;FMTTYPE=text/html:CSI\, a full-service IT company\, will hold a ribbon cutting event followed by refreshments to celebrate their new Siouxland Chamber membership. &nbsp\;CSI has over 20 years of experience in understanding\, installing and providing service and support on both business and healthcare specific hardware\, software and networks and can make your life and your organization more productive\, more enjoyable and more profitable. &nbsp\;Please join us and welcome CSI to the Chamber!
LOCATION:701 Douglas Street Sioux City
UID:e.769.3520
SEQUENCE:3
DTSTAMP:20260420T015001Z
URL:https://directory.siouxlandchamber.com/events/details/ribbon-cutting-csi-3520
END:VEVENT

END:VCALENDAR
