BEGIN:VCALENDAR
VERSION:2.0
PRODID:-//ChamberMaster//Event Calendar 2.0//EN
METHOD:PUBLISH
X-PUBLISHED-TTL:P3D
REFRESH-INTERVAL:P3D
CALSCALE:GREGORIAN
BEGIN:VEVENT
DTSTART:20220510T213000Z
DTEND:20220510T220000Z
X-MICROSOFT-CDO-ALLDAYEVENT:FALSE
SUMMARY:Ribbon Cutting - Crumb. & Dashing Dinners
DESCRIPTION:Join us in welcoming Crumb. and Dashing Dinners to the Siouxland Chamber. \n\n\n\nDashing Dinners:\n\n"Food is Personal\, and so are your special moments. We pride ourselves in creating  a one-of-a-kind experience that will delight you and your guests. Working with your ideas\, adding a little of our own creative flair or planning it all for you\, we promise to make your event memorable. We offer elegant catering & personal chef services for all occasions with customized menus to meet your budget."
X-ALT-DESC;FMTTYPE=text/html:Join us in welcoming Crumb. and Dashing Dinners to the Siouxland Chamber.&nbsp\;<br />\n<br />\n<strong>Dashing Dinners:</strong><br />\n&quot\;Food is Personal\, and so are your special moments. We pride ourselves in creating&nbsp\; a one-of-a-kind experience that will delight you and your guests. Working with your ideas\, adding a little of our own creative flair or planning it all for you\, we promise to make your event memorable. We offer elegant catering &amp\; personal chef services for all occasions with customized menus to meet your budget.&quot\;<br style="overflow-wrap:break-word\;" />\n<br />\n<br />\n&nbsp\;
LOCATION:Art SUX Gallery 515 4th Street Sioux City\, IA 51101
UID:e.769.5786
SEQUENCE:3
DTSTAMP:20260420T053224Z
URL:https://directory.siouxlandchamber.com/events/details/ribbon-cutting-crumb-dashing-dinners-5786
END:VEVENT

END:VCALENDAR
