BEGIN:VCALENDAR
VERSION:2.0
PRODID:-//ChamberMaster//Event Calendar 2.0//EN
METHOD:PUBLISH
X-PUBLISHED-TTL:P3D
REFRESH-INTERVAL:P3D
CALSCALE:GREGORIAN
BEGIN:VEVENT
DTSTART:20160727T150000Z
DTEND:20160727T153000Z
X-MICROSOFT-CDO-ALLDAYEVENT:FALSE
SUMMARY:Ribbon Cutting - Crittenton Stella Sanford Child Development Center
DESCRIPTION:A ribbon cutting will be held at the Crittenton Stella Sanford Child Development Center to unveil their new kitchen made possible through a grant from Missouri River Historical Development Inc.  The center is focused on providing outstanding learning experiences and opportunities to the children they serve. Please join us in celebrating their new improvements.  Tours of the center and refreshments will follow the ceremony.
X-ALT-DESC;FMTTYPE=text/html:A ribbon cutting will be held at the Crittenton Stella Sanford Child Development Center to unveil their new kitchen made possible through a grant from Missouri River Historical Development Inc.&nbsp\; The center is focused on providing outstanding learning experiences and opportunities to the children they serve. Please join us in celebrating their new improvements.&nbsp\; Tours of the center and refreshments will follow the ceremony.
LOCATION:1724 Geneva Street Sioux City
UID:e.769.3296
SEQUENCE:3
DTSTAMP:20260421T160301Z
URL:https://directory.siouxlandchamber.com/events/details/ribbon-cutting-crittenton-stella-sanford-child-development-center-07-27-2016-3296
END:VEVENT

END:VCALENDAR
