BEGIN:VCALENDAR
VERSION:2.0
PRODID:-//ChamberMaster//Event Calendar 2.0//EN
METHOD:PUBLISH
X-PUBLISHED-TTL:P3D
REFRESH-INTERVAL:P3D
CALSCALE:GREGORIAN
BEGIN:VEVENT
DTSTART:20180404T160000Z
DTEND:20180404T163000Z
X-MICROSOFT-CDO-ALLDAYEVENT:FALSE
SUMMARY:Ribbon Cutting - Crittenton Center
DESCRIPTION:The Crittenton Center will hold a Ribbon Cutting at the Emergency Shelter for Children to celebrate their recent technology improvements made possible through a MRHD grant and partnerships with FiberComm and Electric Innovations.  An Open House will follow the event.
X-ALT-DESC;FMTTYPE=text/html:The Crittenton Center will hold a Ribbon Cutting at the Emergency Shelter for Children to celebrate their recent technology improvements made possible through a MRHD grant and partnerships with FiberComm and Electric Innovations.&nbsp\; An Open House will follow the event.
LOCATION:3901 Green Avenue Sioux City
UID:e.769.4669
SEQUENCE:3
DTSTAMP:20260420T133352Z
URL:https://directory.siouxlandchamber.com/events/details/ribbon-cutting-crittenton-center-4669
END:VEVENT

END:VCALENDAR
