BEGIN:VCALENDAR
VERSION:2.0
PRODID:-//ChamberMaster//Event Calendar 2.0//EN
METHOD:PUBLISH
X-PUBLISHED-TTL:P3D
REFRESH-INTERVAL:P3D
CALSCALE:GREGORIAN
BEGIN:VEVENT
DTSTART:20161107T223000Z
DTEND:20161107T230000Z
X-MICROSOFT-CDO-ALLDAYEVENT:FALSE
SUMMARY:Ribbon Cutting - Crazy Bob's Bar-B-Que
DESCRIPTION:Please join the Siouxland Chamber for a ribbon cutting to welcome new member\, Crazy Bob's Bar-B-Que.  Food samples and appetizers will be served along with half price Happy Hour drink specials.  With their primary focus on "comfort" foods\, Crazy Bobs starts with good foods that everyone enjoys and makes them "great" foods you'll talk about for months.
X-ALT-DESC;FMTTYPE=text/html:Please join the Siouxland Chamber for a ribbon cutting to welcome new member\, Crazy Bob&#39\;s Bar-B-Que. &nbsp\;Food samples and appetizers will be served along with half price Happy Hour drink specials. &nbsp\;With their primary focus on &quot\;comfort&quot\; foods\, Crazy Bobs starts with good foods that everyone enjoys and makes them &quot\;great&quot\; foods you&#39\;ll talk about for months.&nbsp\;
LOCATION:1800 Pierce Street (located in the old Green Gables) Sioux City
UID:e.769.3402
SEQUENCE:3
DTSTAMP:20260419T134238Z
URL:https://directory.siouxlandchamber.com/events/details/ribbon-cutting-crazy-bob-s-bar-b-que-3402
END:VEVENT

END:VCALENDAR
