BEGIN:VCALENDAR
VERSION:2.0
PRODID:-//ChamberMaster//Event Calendar 2.0//EN
METHOD:PUBLISH
X-PUBLISHED-TTL:P3D
REFRESH-INTERVAL:P3D
CALSCALE:GREGORIAN
BEGIN:VEVENT
DTSTART:20171221T220000Z
DTEND:20171221T223000Z
X-MICROSOFT-CDO-ALLDAYEVENT:FALSE
SUMMARY:Ribbon Cutting - Crash! Boom! Bang! Whiskey Hole
DESCRIPTION:Kick off your holiday weekend early and bring your friends to Crash! Boom! Bang! Whiskey Hole for their ribbon cutting to celebrate their new Chamber membership.  They will have a Mashed Potato Bar all day and night that has all the love of a traditional Christmas dinner.  Also enjoy drink specials:\n\n$5    Old Fashions (reg. $7)\n\n$5    Bangin' Apple Cider (reg $7)\n\n$2    Domestics\n\n\n\nCrash! Boom! Bang! specializes in whiskey drinks including the  "Smokin' Gun" and also have a full-service bar for those who prefer something other than whiskey.  Please join us in welcoming them to the the Siouxland Chamber.
X-ALT-DESC;FMTTYPE=text/html:Kick off your holiday weekend early and bring your friends to Crash! Boom! Bang! Whiskey Hole for their ribbon cutting to celebrate their new Chamber membership.&nbsp\; They will have a Mashed Potato Bar all day and night that has all the love of a traditional Christmas dinner.&nbsp\; Also enjoy drink specials:<br />\n$5&nbsp\; &nbsp\; Old Fashions (reg. $7)<br />\n$5&nbsp\; &nbsp\; Bangin&#39\; Apple Cider (reg $7)<br />\n$2&nbsp\; &nbsp\; Domestics<br />\n<br />\nCrash! Boom! Bang! specializes in whiskey drinks including the &nbsp\;&quot\;Smokin&#39\; Gun&quot\; and also have a full-service bar for those who prefer something other than whiskey.&nbsp\; Please join us in welcoming them to the the Siouxland Chamber.
LOCATION:213 4th Street Sioux City
UID:e.769.4613
SEQUENCE:3
DTSTAMP:20260420T075557Z
URL:https://directory.siouxlandchamber.com/events/details/ribbon-cutting-crash-boom-bang-whiskey-hole-4613
END:VEVENT

END:VCALENDAR
