BEGIN:VCALENDAR
VERSION:2.0
PRODID:-//ChamberMaster//Event Calendar 2.0//EN
METHOD:PUBLISH
X-PUBLISHED-TTL:P3D
REFRESH-INTERVAL:P3D
CALSCALE:GREGORIAN
BEGIN:VEVENT
DTSTART:20161206T220000Z
DTEND:20161206T223000Z
X-MICROSOFT-CDO-ALLDAYEVENT:FALSE
SUMMARY:Ribbon Cutting - Crary Huff Attorneys at Law
DESCRIPTION:Crary Huff Attorneys at Law will celebrate their new office location with a Chamber ribbon cutting.  Crary Huff was founded in 1896 and today has grown into the largest law firm in the Siouxland area. They have a diverse team of attorneys with offices in Sioux City\, Iowa and Dakota Dunes\, South Dakota.  Please join us in congratulating them and stay for a reception following the ceremony and meet with fellow Chamber members and guests.
X-ALT-DESC;FMTTYPE=text/html:<span style="font-size:14px\;"><span style="font-family:arial\;"><span style="color: rgb(77\, 77\, 76)\; text-align: center\; background-color: rgb(255\, 255\, 255)\;">Crary Huff Attorneys at Law will celebrate their new office location with a Chamber ribbon cutting. &nbsp\;Crary Huff was founded in 1896 and today has grown into the largest law firm in the Siouxland area. They have a diverse team of attorneys with offices in Sioux City\, Iowa and Dakota Dunes\, South Dakota. &nbsp\;Please join us in congratulating them and stay for a reception following the ceremony and meet with fellow Chamber members and guests.</span></span></span>
LOCATION:329 Pierce Street\, Suite 200 Sioux City
UID:e.769.3412
SEQUENCE:3
DTSTAMP:20260419T151911Z
URL:https://directory.siouxlandchamber.com/events/details/ribbon-cutting-crary-huff-attorneys-at-law-3412
END:VEVENT

END:VCALENDAR
