BEGIN:VCALENDAR
VERSION:2.0
PRODID:-//ChamberMaster//Event Calendar 2.0//EN
METHOD:PUBLISH
X-PUBLISHED-TTL:P3D
REFRESH-INTERVAL:P3D
CALSCALE:GREGORIAN
BEGIN:VEVENT
DTSTART:20160708T210000Z
DTEND:20160708T213000Z
X-MICROSOFT-CDO-ALLDAYEVENT:FALSE
SUMMARY:Ribbon Cutting - Country Celebrations Events Center
DESCRIPTION:New Chamber Member\, Country Celebrations Events Center\, will kick off their Grand Opening weekend with a ribbon cutting ceremony.  Come check out this rustic-chic event space  with warmth of soft pine wood inside and out\, a stone fireplace to relax in front of\, and in the reception area\, an enchanting waterfall.
X-ALT-DESC;FMTTYPE=text/html:<span style="font-family:tahoma\;">New Chamber Member\, Country Celebrations Events Center\, will kick off their Grand Opening weekend with a ribbon cutting ceremony. &nbsp\;Come check out this rustic-chic event space&nbsp\;<span style="line-height: 15.6px\; background-color: rgb(255\, 255\, 255)\;">&nbsp\;with warmth of soft pine wood inside and out\, a stone fireplace to relax in front of\, and in the reception area\, an enchanting waterfall.</span></span>
LOCATION:5606 Hamilton Boulevard Sioux City
UID:e.769.3290
SEQUENCE:3
DTSTAMP:20260421T161438Z
URL:https://directory.siouxlandchamber.com/events/details/ribbon-cutting-country-celebrations-events-center-07-08-2016-3290
END:VEVENT

END:VCALENDAR
