BEGIN:VCALENDAR
VERSION:2.0
PRODID:-//ChamberMaster//Event Calendar 2.0//EN
METHOD:PUBLISH
X-PUBLISHED-TTL:P3D
REFRESH-INTERVAL:P3D
CALSCALE:GREGORIAN
BEGIN:VEVENT
DTSTART:20161116T170000Z
DTEND:20161116T173000Z
X-MICROSOFT-CDO-ALLDAYEVENT:FALSE
SUMMARY:Ribbon Cutting - COUNSEL
DESCRIPTION:We will welcome new member\, COUNSEL\, to the Chamber with a ribbon cutting followed by an open house until 1:30 PM.  COUNSEL specializes in providing the finest business technology solutions all backed with five star service.  Their core focus is the sales & service of digital imaging hardware and software.  Please join us in the celebration.
X-ALT-DESC;FMTTYPE=text/html:We will welcome new member\, COUNSEL\, to the Chamber with a ribbon cutting followed by an open house until 1:30 PM.&nbsp\; COUNSEL specializes in providing the finest business technology solutions all backed with five star service.&nbsp\; Their core focus is the sales &amp\; service of digital imaging hardware and software.&nbsp\; Please join us in the celebration.
LOCATION:530 6th Street Sioux City
UID:e.769.3396
SEQUENCE:3
DTSTAMP:20260419T134135Z
URL:https://directory.siouxlandchamber.com/events/details/ribbon-cutting-counsel-3396
END:VEVENT

END:VCALENDAR
