BEGIN:VCALENDAR
VERSION:2.0
PRODID:-//ChamberMaster//Event Calendar 2.0//EN
METHOD:PUBLISH
X-PUBLISHED-TTL:P3D
REFRESH-INTERVAL:P3D
CALSCALE:GREGORIAN
BEGIN:VEVENT
DTSTART:20200401T153000Z
DTEND:20200401T160000Z
X-MICROSOFT-CDO-ALLDAYEVENT:FALSE
SUMMARY:Ribbon Cutting - Corinne's Cleaning Plus - CANCELLED
DESCRIPTION:Join us for a Ribbon Cutting celebrating Siouxland Chamber of Commerce member\, Corinne's Cleaning Plus.
X-ALT-DESC;FMTTYPE=text/html:Join us for a Ribbon Cutting celebrating Siouxland Chamber of Commerce member\, Corinne&#39\;s Cleaning Plus.
LOCATION:SIouxland Chamber of Commerce 101 Pierce Street Sioux City\, IA 51101
UID:e.769.5369
SEQUENCE:3
DTSTAMP:20260421T182321Z
URL:https://directory.siouxlandchamber.com/events/details/ribbon-cutting-corinne-s-cleaning-plus-cancelled-5369
END:VEVENT

END:VCALENDAR
