BEGIN:VCALENDAR
VERSION:2.0
PRODID:-//ChamberMaster//Event Calendar 2.0//EN
METHOD:PUBLISH
X-PUBLISHED-TTL:P3D
REFRESH-INTERVAL:P3D
CALSCALE:GREGORIAN
BEGIN:VEVENT
DTSTART:20180710T183000Z
DTEND:20180710T190000Z
X-MICROSOFT-CDO-ALLDAYEVENT:FALSE
SUMMARY:Ribbon Cutting - Cook Park Splash Pad
DESCRIPTION:The City of Sioux City will celebrate the new Cook Park splash pad.  Come join the fun and cool off if the day is warm.
X-ALT-DESC;FMTTYPE=text/html:The City of Sioux City will celebrate the new Cook Park splash pad.&nbsp\; Come join the fun and cool off if the day is warm.
LOCATION:Cook Park 505 Market Street Sioux City
UID:e.769.4788
SEQUENCE:3
DTSTAMP:20260420T192848Z
URL:https://directory.siouxlandchamber.com/events/details/ribbon-cutting-cook-park-splash-pad-4788
END:VEVENT

END:VCALENDAR
