BEGIN:VCALENDAR
VERSION:2.0
PRODID:-//ChamberMaster//Event Calendar 2.0//EN
METHOD:PUBLISH
X-PUBLISHED-TTL:P3D
REFRESH-INTERVAL:P3D
CALSCALE:GREGORIAN
BEGIN:VEVENT
DTSTART:20170808T223000Z
DTEND:20170808T230000Z
X-MICROSOFT-CDO-ALLDAYEVENT:FALSE
SUMMARY:Ribbon Cutting - Contemporary Dance Studio
DESCRIPTION:Contemporary Dance Studio has joined the Siouxland Chamber and we will celebrate with a Ribbon Cutting Event held jointly with their Registration Open House.  At Contemporary Dance Studio\, Jessica Jensen uses modern facilities and philosophies to teach dance\, encourage creativity\, promote physical fitness and build self esteem.  Please attend and help welcome Contemporary Dance Studio to the Siouxland Chamber.
X-ALT-DESC;FMTTYPE=text/html:<span style="font-family:verdana\,sans-serif\;"><span style="font-size:11.5pt\;">Contemporary Dance Studio has joined the Siouxland Chamber and we will celebrate with a Ribbon Cutting Event held jointly with their Registration Open House.&nbsp\; At Contemporary Dance Studio\, Jessica Jensen uses modern facilities and philosophies to teach dance\, encourage creativity\, promote physical fitness and build self esteem.&nbsp\; Please attend and help welcome Contemporary Dance Studio to the Siouxland Chamber.</span></span>
LOCATION:1551 Indian Hills Drive Sioux City
UID:e.769.3536
SEQUENCE:3
DTSTAMP:20260420T031612Z
URL:https://directory.siouxlandchamber.com/events/details/ribbon-cutting-contemporary-dance-studio-3536
END:VEVENT

END:VCALENDAR
