BEGIN:VCALENDAR
VERSION:2.0
PRODID:-//ChamberMaster//Event Calendar 2.0//EN
METHOD:PUBLISH
X-PUBLISHED-TTL:P3D
REFRESH-INTERVAL:P3D
CALSCALE:GREGORIAN
BEGIN:VEVENT
DTSTART:20180208T190000Z
DTEND:20180208T193000Z
X-MICROSOFT-CDO-ALLDAYEVENT:FALSE
SUMMARY:Ribbon Cutting - Cone Park Skating Rink
DESCRIPTION:The City of Sioux City Parks and Recreation will hold a ribbon cutting to celebrate the recent completion of the Cone Park ice skating rink.  Skating is included with your tubing admission or there is a skating-only option which costs $5.  Skate rental is an additional $3.  We hope you can take a break from your afternoon to celebrate with us!
X-ALT-DESC;FMTTYPE=text/html:The City of Sioux City Parks and Recreation will hold a ribbon cutting to celebrate the recent completion of the Cone Park ice skating rink.&nbsp\; Skating is included with your tubing admission or there is a skating-only option which costs $5.&nbsp\; Skate rental is an additional $3.&nbsp\; We hope you can take a break from your afternoon to celebrate with us!
LOCATION:Cone Park 3800 Line Drive Sioux City
UID:e.769.4653
SEQUENCE:3
DTSTAMP:20260420T105238Z
URL:https://directory.siouxlandchamber.com/events/details/ribbon-cutting-cone-park-skating-rink-4653
END:VEVENT

END:VCALENDAR
