BEGIN:VCALENDAR
VERSION:2.0
PRODID:-//ChamberMaster//Event Calendar 2.0//EN
METHOD:PUBLISH
X-PUBLISHED-TTL:P3D
REFRESH-INTERVAL:P3D
CALSCALE:GREGORIAN
BEGIN:VEVENT
DTSTART:20171219T193000Z
DTEND:20171219T200000Z
X-MICROSOFT-CDO-ALLDAYEVENT:FALSE
SUMMARY:Ribbon Cutting - Cone Park
DESCRIPTION:The snow makers have been busy and now the City of Sioux City is thrilled to invite you to the Cone Park Ribbon Cutting.  Please join us to get a peek at the park's facilities before the official opening on Thursday\, December 21st.
X-ALT-DESC;FMTTYPE=text/html:The snow makers have been busy and now the City of Sioux City is thrilled to invite you to the Cone Park Ribbon Cutting.&nbsp\; Please join us to get a peek at the park&#39\;s facilities before the official opening on Thursday\, December 21st.
LOCATION:3800 Line Drive Sioux City
UID:e.769.4615
SEQUENCE:3
DTSTAMP:20260420T074359Z
URL:https://directory.siouxlandchamber.com/events/details/ribbon-cutting-cone-park-4615
END:VEVENT

END:VCALENDAR
