BEGIN:VCALENDAR
VERSION:2.0
PRODID:-//ChamberMaster//Event Calendar 2.0//EN
METHOD:PUBLISH
X-PUBLISHED-TTL:P3D
REFRESH-INTERVAL:P3D
CALSCALE:GREGORIAN
BEGIN:VEVENT
DTSTART:20180713T160000Z
DTEND:20180713T163000Z
X-MICROSOFT-CDO-ALLDAYEVENT:FALSE
SUMMARY:Ribbon Cutting - Complete Roofing
DESCRIPTION:Help us welcome new member\, Complete Roofing\, at their upcoming ribbon cutting.  You will get a look at their work first hand when a current customer hosts the event.  From installations to quality repairs\, they are your Complete Roofing & Remodeling solution.
X-ALT-DESC;FMTTYPE=text/html:Help us welcome new member\, Complete Roofing\, at their upcoming ribbon cutting.&nbsp\; You will get a look at their work first hand when a current customer hosts the event.&nbsp\; From installations to quality repairs\, they are your Complete Roofing &amp\; Remodeling solution.&nbsp\;&nbsp\;
LOCATION:2430 Mohawk Drive Sioux City
UID:e.769.4745
SEQUENCE:3
DTSTAMP:20260420T175314Z
URL:https://directory.siouxlandchamber.com/events/details/ribbon-cutting-complete-roofing-4745
END:VEVENT

END:VCALENDAR
