BEGIN:VCALENDAR
VERSION:2.0
PRODID:-//ChamberMaster//Event Calendar 2.0//EN
METHOD:PUBLISH
X-PUBLISHED-TTL:P3D
REFRESH-INTERVAL:P3D
CALSCALE:GREGORIAN
BEGIN:VEVENT
DTSTART:20170718T223000Z
DTEND:20170718T230000Z
X-MICROSOFT-CDO-ALLDAYEVENT:FALSE
SUMMARY:Ribbon Cutting - City of Sioux City\, Cook Park Skatepark Addition
DESCRIPTION:The City of Sioux City will hold a ribbon cutting to celebrate an addition to the Cook Park's Skatepark which includes a memorial recognizing Sioux City resident Andrew Langin for his contributions to the skateboard community before he passed away this past January.   A skateboard competition will follow starting at 6:00 PM for those who would like to stay.
X-ALT-DESC;FMTTYPE=text/html:<span style="font-family:trebuchet ms\,sans-serif\;"><span style="font-size:10pt\;">The City of Sioux City will hold a ribbon cutting to celebrate an addition to the Cook Park&rsquo\;s Skatepark which includes a memorial recognizing Sioux City resident Andrew Langin for his contributions to the skateboard community before he passed away this past January. &nbsp\; A skateboard competition will follow&nbsp\;starting at 6:00 PM for those who would like to stay.</span></span>
LOCATION:Cook Park\, 505 Market Street Sioux City
UID:e.769.3535
SEQUENCE:3
DTSTAMP:20260420T015922Z
URL:https://directory.siouxlandchamber.com/events/details/ribbon-cutting-city-of-sioux-city-cook-park-skatepark-addition-3535
END:VEVENT

END:VCALENDAR
