BEGIN:VCALENDAR
VERSION:2.0
PRODID:-//ChamberMaster//Event Calendar 2.0//EN
METHOD:PUBLISH
X-PUBLISHED-TTL:P3D
REFRESH-INTERVAL:P3D
CALSCALE:GREGORIAN
BEGIN:VEVENT
DTSTART:20230216T183000Z
DTEND:20230216T190000Z
X-MICROSOFT-CDO-ALLDAYEVENT:FALSE
SUMMARY:Ribbon Cutting - City of Sergeant Bluff
DESCRIPTION:Join us as we celebrate the Sergeant Bluff Public Library's new location.
X-ALT-DESC;FMTTYPE=text/html:Join us as we celebrate the Sergeant Bluff Public Library&#39\;s new location.&nbsp\;
LOCATION:503 4th St. Sergeant Bluff IA\, 51054
UID:e.769.5970
SEQUENCE:3
DTSTAMP:20260419T152515Z
URL:https://directory.siouxlandchamber.com/events/details/ribbon-cutting-city-of-sergeant-bluff-5970
END:VEVENT

END:VCALENDAR
