BEGIN:VCALENDAR
VERSION:2.0
PRODID:-//ChamberMaster//Event Calendar 2.0//EN
METHOD:PUBLISH
X-PUBLISHED-TTL:P3D
REFRESH-INTERVAL:P3D
CALSCALE:GREGORIAN
BEGIN:VEVENT
DTSTART:20221116T173000Z
DTEND:20221116T180000Z
X-MICROSOFT-CDO-ALLDAYEVENT:FALSE
SUMMARY:Ribbon Cutting - City of Sergeant Bluff
DESCRIPTION:The City of Sergeant Bluff is celebrating the recent completion of their new flooring in their community center. The flooring inside the building has been completely replaced with a top-of-the-line sports court surface for volleyball\, basketball\, and pickleball\, as well as  a surface to host a multitude of other events such as weddings\, company parties\, community gatherings\, and much more. This ribbon cutting allows them to show off their new floor and to invite the greater Siouxland area to include the Community Center in their options for rental space.
X-ALT-DESC;FMTTYPE=text/html:The City of Sergeant Bluff is celebrating the recent completion of their new flooring in their community center. The flooring inside the building has been completely replaced with a top-of-the-line sports court surface for volleyball\, basketball\, and pickleball\, as well as&nbsp\; a surface to host a multitude of other events such as weddings\, company parties\, community gatherings\, and much more. This ribbon cutting allows them to show off their new floor and to invite the greater Siouxland area to include the Community Center in their options for rental space.&nbsp\;
LOCATION:401 4th Street Sergeant Bluff\, IA 51054
UID:e.769.5885
SEQUENCE:3
DTSTAMP:20260419T195602Z
URL:https://directory.siouxlandchamber.com/events/details/ribbon-cutting-city-of-sergeant-bluff-5885
END:VEVENT

END:VCALENDAR
