BEGIN:VCALENDAR
VERSION:2.0
PRODID:-//ChamberMaster//Event Calendar 2.0//EN
METHOD:PUBLISH
X-PUBLISHED-TTL:P3D
REFRESH-INTERVAL:P3D
CALSCALE:GREGORIAN
BEGIN:VEVENT
DTSTART:20171018T224500Z
DTEND:20171018T231500Z
X-MICROSOFT-CDO-ALLDAYEVENT:FALSE
SUMMARY:Ribbon Cutting - Central Bank\, Dakota Dunes
DESCRIPTION:Central Bank will celebrate the Grand Opening of their new Dakota Dunes location with a BANG - Open House from 5:00-7:00 PM\, Ribbon Cutting at 5:45 PM\, drinks\, food\, and FIREWORKS.  Please  join the fun and congratulate them on their growth.
X-ALT-DESC;FMTTYPE=text/html:Central Bank will celebrate the Grand Opening of their new Dakota Dunes location with a BANG - Open House from 5:00-7:00 PM\, Ribbon Cutting at 5:45 PM\, drinks\, food\, and FIREWORKS. &nbsp\;Please &nbsp\;join the fun and congratulate them on their growth.
LOCATION:400 Gold Circle Drive\, Suite 100\, Dakota Dunes\, SD
UID:e.769.3547
SEQUENCE:3
DTSTAMP:20260420T061712Z
URL:https://directory.siouxlandchamber.com/events/details/ribbon-cutting-central-bank-dakota-dunes-3547
END:VEVENT

END:VCALENDAR
