BEGIN:VCALENDAR
VERSION:2.0
PRODID:-//ChamberMaster//Event Calendar 2.0//EN
METHOD:PUBLISH
X-PUBLISHED-TTL:P3D
REFRESH-INTERVAL:P3D
CALSCALE:GREGORIAN
BEGIN:VEVENT
DTSTART:20161130T160000Z
DTEND:20161130T163000Z
X-MICROSOFT-CDO-ALLDAYEVENT:FALSE
SUMMARY:Ribbon Cutting - Center for Siouxland
DESCRIPTION:The Center for Siouxland will hold a ribbon cutting to celebrate their newly remodeled space. Center For Siouxland has been providing service to the Siouxland community for over 41 years.  Come help them celebrate their mission of "helping people\, empowering lives\, and building futures" as well as the  remodel of their building both inside and outside.
X-ALT-DESC;FMTTYPE=text/html:<span style="font-size:14px\;"><span style="background:white\;"><span style="color:#333333\;"><span style="font-family:arial\,sans-serif\;">The Center for&nbsp\;</span></span></span><span style="color:#333333\;"><span style="font-family:arial\,sans-serif\;"><span data-scayt-lang="en_US" data-scayt-word="Siouxland" style="background-position:52% 100%\;">Siouxland</span></span></span>&nbsp\;<span style="background:white\;"><span style="color:#333333\;"><span style="font-family:arial\,sans-serif\;">will hold a ribbon cutting to celebrate their newly remodeled space. </span></span></span>Center For Siouxland has been providing service to the Siouxland community for over 41 years.&nbsp\; Come help them celebrate their mission of &ldquo\;helping people\, empowering lives\, and building futures&rdquo\; as well as the &nbsp\;remodel of their building both inside and outside.</span><br />\n&nbsp\;
LOCATION:715 Douglas Street Sioux City
UID:e.769.3397
SEQUENCE:3
DTSTAMP:20260419T134506Z
URL:https://directory.siouxlandchamber.com/events/details/ribbon-cutting-center-for-siouxland-3397
END:VEVENT

END:VCALENDAR
