BEGIN:VCALENDAR
VERSION:2.0
PRODID:-//ChamberMaster//Event Calendar 2.0//EN
METHOD:PUBLISH
X-PUBLISHED-TTL:P3D
REFRESH-INTERVAL:P3D
CALSCALE:GREGORIAN
BEGIN:VEVENT
DTSTART:20161215T160000Z
DTEND:20161215T163000Z
X-MICROSOFT-CDO-ALLDAYEVENT:FALSE
SUMMARY:Ribbon Cutting - Casey's General Store\, Hamilton Blvd
DESCRIPTION:Casey's General Store on Hamilton Boulevard will hold a ribbon cutting to celebrate the opening of their new and expanded store.  Coffee\, donuts and cookies will be served.  The larger "Super Casey's" will offer a sub sandwich shop and other expanded food choices.  We hope you can join us in congratulating Casey's on their expansion.
X-ALT-DESC;FMTTYPE=text/html:Casey&rsquo\;s General Store on Hamilton Boulevard will hold a ribbon cutting to celebrate the opening of their new and expanded store.&nbsp\; Coffee\, donuts and cookies will be served.&nbsp\; The larger &ldquo\;Super Casey&rsquo\;s&rdquo\; will offer a sub sandwich shop and other expanded food choices.&nbsp\; We hope you can join us in congratulating Casey&rsquo\;s on their expansion.&nbsp\;&nbsp\;
LOCATION:3731 Hamilton Boulevard Sioux City
UID:e.769.3418
SEQUENCE:3
DTSTAMP:20260419T134330Z
URL:https://directory.siouxlandchamber.com/events/details/ribbon-cutting-casey-s-general-store-hamilton-blvd-3418
END:VEVENT

END:VCALENDAR
