BEGIN:VCALENDAR
VERSION:2.0
PRODID:-//ChamberMaster//Event Calendar 2.0//EN
METHOD:PUBLISH
X-PUBLISHED-TTL:P3D
REFRESH-INTERVAL:P3D
CALSCALE:GREGORIAN
BEGIN:VEVENT
DTSTART:20191023T180000Z
DTEND:20191023T183000Z
X-MICROSOFT-CDO-ALLDAYEVENT:FALSE
SUMMARY:Ribbon Cutting - Care Initiatives Hospice - Sioux City
DESCRIPTION:Please join us in celebrating the 10 year anniversary of Care Initiatives Hospice - Sioux City. Care Initiatives Hospice provides care throughout Iowa for those in their final stages of life. They strive to ease the burden of this difficult time by working closely with family members and caregivers to respect the wishes and needs of the patients and their loved ones. Care Initiatives Hospice is part of the Care Initiatives network of senior care skilled nursing facilities located throughout the state serving more than 3\,000 Iowans every year.
X-ALT-DESC;FMTTYPE=text/html:Please join us in celebrating the 10 year anniversary of Care Initiatives Hospice - Sioux City. Care Initiatives Hospice provides care throughout Iowa for those in their final stages of life. They strive to ease the burden of this difficult time by working closely with family members and caregivers to respect the wishes and needs of the patients and their loved ones. Care Initiatives Hospice is part of the Care Initiatives network of senior care skilled nursing facilities located throughout the state serving more than 3\,000 Iowans every year.&nbsp\;
LOCATION:4301 Sergeant Road #110 Sioux City\, IA 51106
UID:e.769.5191
SEQUENCE:3
DTSTAMP:20260421T182603Z
URL:https://directory.siouxlandchamber.com/events/details/ribbon-cutting-care-initiatives-hospice-sioux-city-5191
END:VEVENT

END:VCALENDAR
