BEGIN:VCALENDAR
VERSION:2.0
PRODID:-//ChamberMaster//Event Calendar 2.0//EN
METHOD:PUBLISH
X-PUBLISHED-TTL:P3D
REFRESH-INTERVAL:P3D
CALSCALE:GREGORIAN
BEGIN:VEVENT
DTSTART:20200925T180000Z
DTEND:20200925T183000Z
X-MICROSOFT-CDO-ALLDAYEVENT:FALSE
SUMMARY:Ribbon Cutting - Camp High Hopes
DESCRIPTION:Please join us for a ribbon cutting to celebrate the new Sensory Garden and Fall Programming at Camp High Hopes.
X-ALT-DESC;FMTTYPE=text/html:Please join us for a ribbon cutting to celebrate the new Sensory Garden and Fall Programming at Camp High Hopes.&nbsp\;
LOCATION:5804 Correctionville Road Sioux City\, IA 51106
UID:e.769.5409
SEQUENCE:3
DTSTAMP:20260421T104834Z
URL:https://directory.siouxlandchamber.com/events/details/ribbon-cutting-camp-high-hopes-5409
END:VEVENT

END:VCALENDAR
