BEGIN:VCALENDAR
VERSION:2.0
PRODID:-//ChamberMaster//Event Calendar 2.0//EN
METHOD:PUBLISH
X-PUBLISHED-TTL:P3D
REFRESH-INTERVAL:P3D
CALSCALE:GREGORIAN
BEGIN:VEVENT
DTSTART:20180710T150000Z
DTEND:20180710T153000Z
X-MICROSOFT-CDO-ALLDAYEVENT:FALSE
SUMMARY:Ribbon Cutting - Buena Vista University
DESCRIPTION:Buena Vista University is now offering degree completion programs through Western Iowa Tech Community College.  Join us at their ribbon cutting and learn how you can advance your degree near home with affordable courses\, seamless credit transfers of online\, face-to-face\, and blended learning format courses.
X-ALT-DESC;FMTTYPE=text/html:Buena Vista University is now offering degree completion programs through Western Iowa Tech Community College.&nbsp\; Join us at their ribbon cutting and learn how you can advance your degree near home with affordable courses\, seamless credit transfers of online\, face-to-face\, and blended learning format courses.
LOCATION:Western Iowa Tech Community College Robert H. Kiser Building\, Room A415 Parking Lot 1\, Entrance 1 4647 Stone Avenue
UID:e.769.4786
SEQUENCE:3
DTSTAMP:20260420T175644Z
URL:https://directory.siouxlandchamber.com/events/details/ribbon-cutting-buena-vista-university-4786
END:VEVENT

END:VCALENDAR
