BEGIN:VCALENDAR
VERSION:2.0
PRODID:-//ChamberMaster//Event Calendar 2.0//EN
METHOD:PUBLISH
X-PUBLISHED-TTL:P3D
REFRESH-INTERVAL:P3D
CALSCALE:GREGORIAN
BEGIN:VEVENT
DTSTART:20180302T173000Z
DTEND:20180302T180000Z
X-MICROSOFT-CDO-ALLDAYEVENT:FALSE
SUMMARY:Ribbon Cutting - Bruening Eye Specialists\, Sunnybrook Center
DESCRIPTION:The new Bruening Eye Specialists will hold a Ribbon Cutting with lunch following to celebrate the completion of their new clinic in Sunnybrook Center.  Bruening Eye Specialists will start providing ophthalmology services\, treating eye diseases and providing surgical treatments at the new location beginning March 5th.
X-ALT-DESC;FMTTYPE=text/html:The new Bruening Eye Specialists&nbsp\;will hold a Ribbon Cutting with lunch following to celebrate the completion of their new clinic in Sunnybrook&nbsp\;Center.&nbsp\; Bruening&nbsp\;Eye Specialists will start providing ophthalmology services\, treating eye diseases and providing surgical treatments at the new location&nbsp\;beginning March 5th.
LOCATION:5500 Sergeant Road Sioux City\, IA
UID:e.769.4651
SEQUENCE:3
DTSTAMP:20260420T120404Z
URL:https://directory.siouxlandchamber.com/events/details/ribbon-cutting-bruening-eye-specialists-sunnybrook-center-4651
END:VEVENT

END:VCALENDAR
