BEGIN:VCALENDAR
VERSION:2.0
PRODID:-//ChamberMaster//Event Calendar 2.0//EN
METHOD:PUBLISH
X-PUBLISHED-TTL:P3D
REFRESH-INTERVAL:P3D
CALSCALE:GREGORIAN
BEGIN:VEVENT
DTSTART:20181004T154500Z
DTEND:20181004T161500Z
X-MICROSOFT-CDO-ALLDAYEVENT:FALSE
SUMMARY:Ribbon Cutting - Brightside Cafe & Deli
DESCRIPTION:Start your day on the brightside with new Siouxland Chamber member Brightside Cafe & Deli.  Help us celebrate their membership at their upcoming ribbon cutting and get a feel for their positive and friendly vibe.  Brightside is Siouxland's newest locally owned cafe and deli and features a broad range of breakfast items including specialty omelets and the lunch menu includes soups\, salads\, burgers and sub and grilled sandwiches.
X-ALT-DESC;FMTTYPE=text/html:Start your day on the brightside with new Siouxland Chamber member Brightside Cafe &amp\; Deli.&nbsp\; Help us celebrate their membership at their upcoming ribbon cutting and get a feel for their positive and friendly vibe.&nbsp\; Brightside is Siouxland&#39\;s newest locally owned cafe and deli and features a broad range of breakfast items including specialty omelets and the lunch menu includes soups\, salads\, burgers and sub and grilled sandwiches.
LOCATION:525 4th Street Sioux City
UID:e.769.4823
SEQUENCE:3
DTSTAMP:20260421T001224Z
URL:https://directory.siouxlandchamber.com/events/details/ribbon-cutting-brightside-cafe-deli-4823
END:VEVENT

END:VCALENDAR
