BEGIN:VCALENDAR
VERSION:2.0
PRODID:-//ChamberMaster//Event Calendar 2.0//EN
METHOD:PUBLISH
X-PUBLISHED-TTL:P3D
REFRESH-INTERVAL:P3D
CALSCALE:GREGORIAN
BEGIN:VEVENT
DTSTART:20170909T174500Z
DTEND:20170909T180000Z
X-MICROSOFT-CDO-ALLDAYEVENT:FALSE
SUMMARY:Ribbon Cutting - Briar Cliff University\, Memorial Field
DESCRIPTION:Briar Cliff University will commemorate their 1st game played on Memorial Field's all weather turf by welcoming home and honoring members from BCU's first football team who will cut the ribbon celebrating the recent improvements.  Please join us and stay to cheer on the Chargers against Dakota State University!
X-ALT-DESC;FMTTYPE=text/html:Briar Cliff University will commemorate their 1st game played on Memorial Field&#39\;s all weather turf by welcoming home and honoring members from BCU&#39\;s first football team who will cut the ribbon celebrating the recent improvements. &nbsp\;Please join us and stay to cheer on the Chargers against Dakota State University!
LOCATION:Memorial Field 1617 W 17th Street\, Sioux City
UID:e.769.3556
SEQUENCE:3
DTSTAMP:20260420T033303Z
URL:https://directory.siouxlandchamber.com/events/details/ribbon-cutting-briar-cliff-university-memorial-field-3556
END:VEVENT

END:VCALENDAR
