BEGIN:VCALENDAR
VERSION:2.0
PRODID:-//ChamberMaster//Event Calendar 2.0//EN
METHOD:PUBLISH
X-PUBLISHED-TTL:P3D
REFRESH-INTERVAL:P3D
CALSCALE:GREGORIAN
BEGIN:VEVENT
DTSTART:20220827T150000Z
DTEND:20220827T153000Z
X-MICROSOFT-CDO-ALLDAYEVENT:FALSE
SUMMARY:Ribbon Cutting - Briar Cliff University
DESCRIPTION:Please join us for a special celebration of the baseball field dedication at the Bishop Mueller Complex. Facility tours will begin at 9:30AM with the dedication to follow at 10AM. \n\n\n\nThanks to the generosity of Briar Cliff's alumni and friends of the Charger baseball program\, nearly $1 million was raised for the further improvement of the complex. Join us as they announce the new name for the field and thank the donors who have supported this project.
X-ALT-DESC;FMTTYPE=text/html:Please join us for a special celebration of the baseball field dedication at the Bishop Mueller Complex. Facility tours will begin at 9:30AM with the dedication to follow at 10AM.&nbsp\;<br />\n<br />\nThanks to the generosity of Briar Cliff&#39\;s alumni and friends of the Charger baseball program\, nearly $1 million was raised for the further improvement of the complex. Join us as they announce the new name for the field and thank the donors who have supported this project.&nbsp\;<br />\n&nbsp\;
LOCATION:Bishop Mueller Complex 3303 Rebecca St. Sioux City\, IA 51104
UID:e.769.5854
SEQUENCE:3
DTSTAMP:20260420T003239Z
URL:https://directory.siouxlandchamber.com/events/details/ribbon-cutting-briar-cliff-university-5854
END:VEVENT

END:VCALENDAR
