BEGIN:VCALENDAR
VERSION:2.0
PRODID:-//ChamberMaster//Event Calendar 2.0//EN
METHOD:PUBLISH
X-PUBLISHED-TTL:P3D
REFRESH-INTERVAL:P3D
CALSCALE:GREGORIAN
BEGIN:VEVENT
DTSTART:20170516T213000Z
DTEND:20170516T220000Z
X-MICROSOFT-CDO-ALLDAYEVENT:FALSE
SUMMARY:Ribbon Cutting - Braunger Food Service
DESCRIPTION:Braunger Foods\, a Sioux City-based food distributor for 125 years\, will hold a ribbon cutting followed by drinks and hors d'oeuvres to celebrate the grand opening of their recently completed distribution center.  Braungers distributes meat and other food products to restaurants\, schools and health care facilities within roughly a 180 mile radius of Sioux City.  Please join us in congratulating Braungers on their improvements and enjoy some good company.
X-ALT-DESC;FMTTYPE=text/html:Braunger&nbsp\;Foods\, a Sioux City-based food distributor for 125 years\, will hold a ribbon cutting followed by drinks and hors d&#39\;oeuvres to celebrate the grand opening of their recently completed distribution center. &nbsp\;Braungers distributes meat and other food products to restaurants\, schools and health care facilities within roughly a 180 mile radius of Sioux City. &nbsp\;Please join us in congratulating Braungers&nbsp\;on their improvements and enjoy some good company.
LOCATION:2101 Murray Street Sioux City\, IA
UID:e.769.3481
SEQUENCE:3
DTSTAMP:20260419T212942Z
URL:https://directory.siouxlandchamber.com/events/details/ribbon-cutting-braunger-food-service-3481
END:VEVENT

END:VCALENDAR
