BEGIN:VCALENDAR
VERSION:2.0
PRODID:-//ChamberMaster//Event Calendar 2.0//EN
METHOD:PUBLISH
X-PUBLISHED-TTL:P3D
REFRESH-INTERVAL:P3D
CALSCALE:GREGORIAN
BEGIN:VEVENT
DTSTART:20180228T190000Z
DTEND:20180228T193000Z
X-MICROSOFT-CDO-ALLDAYEVENT:FALSE
SUMMARY:Ribbon Cutting - Boys & Girls Club of Siouxland
DESCRIPTION:The Boys & Girls Club of Siouxland is excited to unveil their renovated Learning Center made possible through a grant from Lowe's Home Improvement Warehouse at their upcoming Ribbon Cutting with the Siouxland Chamber and South Sioux City Chamber.  An Open House with light refreshments will follow until 2:30 PM.  Please join us in congratulating the Boys & Girls Club on their continued improvements that enhance the lives of Siouxlanders.
X-ALT-DESC;FMTTYPE=text/html:The Boys &amp\; Girls Club of Siouxland is excited to unveil their renovated Learning Center made possible through a grant from Lowe&#39\;s Home Improvement Warehouse at their upcoming Ribbon Cutting with the Siouxland&nbsp\;Chamber and South Sioux City Chamber.&nbsp\; An Open House with light refreshments will follow until 2:30 PM.&nbsp\; Please join us in congratulating the Boys &amp\; Girls Club on their continued improvements that enhance the lives of Siouxlanders.
LOCATION:823 Pearl Street Sioux City
UID:e.769.4652
SEQUENCE:3
DTSTAMP:20260420T105739Z
URL:https://directory.siouxlandchamber.com/events/details/ribbon-cutting-boys-girls-club-of-siouxland-4652
END:VEVENT

END:VCALENDAR
