BEGIN:VCALENDAR
VERSION:2.0
PRODID:-//ChamberMaster//Event Calendar 2.0//EN
METHOD:PUBLISH
X-PUBLISHED-TTL:P3D
REFRESH-INTERVAL:P3D
CALSCALE:GREGORIAN
BEGIN:VEVENT
DTSTART:20170907T170000Z
DTEND:20170907T173000Z
X-MICROSOFT-CDO-ALLDAYEVENT:FALSE
SUMMARY:Ribbon Cutting - Boys and Girls Home & Family Services Thrift Store
DESCRIPTION:The Boys and Girls Home & Family Services will hold a ribbon cutting and Grand Opening of their new thrift store in Indian Hills.  Another announcement from Boys and Girls Home will be made during the ceremony followed by food and networking.  Please join us and congratulate the Boys and Girls Home on their growth.
X-ALT-DESC;FMTTYPE=text/html:The Boys and Girls Home &amp\; Family Services will hold a ribbon cutting and Grand Opening of their new thrift store in Indian Hills. &nbsp\;Another announcement from Boys and Girls Home will be made during the ceremony followed by food and networking. &nbsp\;Please join us and congratulate the Boys and Girls Home on their growth.
LOCATION:1551 Indian Hills Drive\, Ste 10\, Sioux City
UID:e.769.3517
SEQUENCE:3
DTSTAMP:20260420T033842Z
URL:https://directory.siouxlandchamber.com/events/details/ribbon-cutting-boys-and-girls-home-family-services-thrift-store-3517
END:VEVENT

END:VCALENDAR
