BEGIN:VCALENDAR
VERSION:2.0
PRODID:-//ChamberMaster//Event Calendar 2.0//EN
METHOD:PUBLISH
X-PUBLISHED-TTL:P3D
REFRESH-INTERVAL:P3D
CALSCALE:GREGORIAN
BEGIN:VEVENT
DTSTART:20160606T131500Z
DTEND:20160606T134500Z
X-MICROSOFT-CDO-ALLDAYEVENT:FALSE
SUMMARY:Ribbon Cutting - Boys and Girls Clubs of Siouxland
DESCRIPTION:Please join the Boys and Girls Clubs of Siouxland at the upcoming ribbon cutting ceremony to celebrate the first day of welcoming girls to the club.  The mission of the Boys & Girls Club of Sioux City is to inspire and enable all boys and girls\, especially those who need us most\, to reach their full potential as responsible\, caring and productive citizens.
X-ALT-DESC;FMTTYPE=text/html:<span style="font-family:arial\;">Please join the&nbsp\;Boys and Girls Clubs of Siouxland&nbsp\;at the upcoming ribbon cutting ceremony to celebrate the first day of welcoming girls to the club. &nbsp\;<span style="color: rgb(102\, 102\, 102)\; font-size: 14px\; line-height: 23.8px\; background-color: rgb(255\, 255\, 255)\;">The mission of the&nbsp\;Boys &amp\; Girls Club of Sioux City is to inspire and enable all boys and girls\, especially those who need us most\, to reach their full potential as responsible\, caring and productive citizens.</span></span>
LOCATION:823 Pearl Street Sioux City
UID:e.769.3265
SEQUENCE:3
DTSTAMP:20260421T174827Z
URL:https://directory.siouxlandchamber.com/events/details/ribbon-cutting-boys-and-girls-clubs-of-siouxland-06-06-2016-3265
END:VEVENT

END:VCALENDAR
